Workbook

Sheet 更新履歴
B2: シナリオシート更新履歴
B3: NPCID | C3: 7491
B4: NPC名 | C4: 称号マニアのノーブレス
B6: 更新日時 | C6: リリース日 | D6: 更新内容 | E6: 更新者
B7: 44767 | C7: 44818 | D7: 称号機能用NPCとして『称号マニアのノーブレス』を作成 | E7: 内藤
B8: 44768 | C8: 44818 | D8: 『叩き台』作成 | E8: 内藤
B9: 44775 | C9: 44818 | D9: flow作成開始 | E9: 内藤

Sheet 設定
B2: ①キャラクタ―情報 | O2: イラスト | AF2: [頭](30024)まるメガネ | AG2: I_030024 | AH2: cap_021
B3: NPCID | E3: 7491 | AF3: [背](40131)女用グレースケープ | AG3: I_040143 | AH3: back_176
B4: NPC名 | E4: 称号マニアのノーブレス | AF4: [服](90034)女用マジカルスーツ | AG4: I_090034 | AH4: PC_W017
B5: Sprite | E5: NPC_583.XML | AF5: [武](0)-
B6: ②キャラクタ―性格 | AF6: [盾](0)-
B7: 年齢 | E7: 20 | AF7: [髪](261017-5)フルクトゥス | AG7: I_261017 | AH7: hair_W171
B8: 性別 | E8: 女 | AF8: [顔](271006)ガールズメイクＦ | AG8: I_271006 | AH8: face_W006
B9: 一人称 | E9: じぶん（常にひらがな）
B10: 二人称 | E10: プレイヤー：先輩/その他：〇〇さん
B11: 特殊呼称 | E11: 無し
B12: 性格 | E12: 好きな事は早口で喋る系オタク
B14: ③キャラクター設定
B15: 大陸から渡ってきた自称称号研究第一人者。 職業協会の新規職員であり、称号をこよなく愛する称号マニアである。 普段はウィステラの職業協会におり、称号看板の前で称号の布教活動に勤しんでいる。 冒険者に憧れを持っており、プレイヤーの事を「先輩」と呼ぶ。 興味がない事に対しては奥手だが、興味がることに対しては積極的であり、早口で喋る。
B25: ④劇中での役割
B26: ウィステラの称号看板前におり、話しかけると称号について解説してくれる。 ユーザに称号について認識させ、称号の利用と取得を促す存在。
B36: ⑤その他
B37: 口調（ベースイメージはパワプロのほむらちゃん）： 「～ッス！」「自分、興奮が抑えられないッス！」「先輩はどう思ってるッスか？」 「先輩が得た称号はこのとおりッス！」「先輩が羨ましいッス～！」 称号そのものの設定： 職業協会が新しく始めた『冒険者向け施策』の一つ。職業協会が認定し、個々の冒険者に与えている。

Sheet flow_広場
B1: =設定!E3 -> 7491 | E1: =設定!E4 -> 称号マニアのノーブレス | O1: 参照： | R1: ./test_script/NPC_7491.lua （たぶんそのままは使えないやつだと思いますが、FTSでテストした際のスクリプトです）
B2: 期間：2022/09/14 ~2022/10/12
AE3: 対象 | AF3: 名前 | AG3: 座標orID | AH3: Scene or スプライト名 or コメント | AI3: キャラとその配置
B4: 74910017 | E4: 冒険者の先輩がた、ちわッス！ | P4: I_900037 | AE4: MAP | AF4: ウィステラの街 | AH4: 100001.XML | AI4: 1
O5: ビックリマークの吹き出しを出しておく | AE5: カメラ | AI5: <!-- 称号マニアのノーブレス -->
O6: クリアしたら消える | AI6: <NpcId>7491</NpcId>
AI7: <OrgX>1900</OrgX>
AI8: <OrgY>1200</OrgY>
AI9: <Direction>5</Direction>
B10: 74910018 | E10: 突然ッスが、 「称号」ってご存知ッスか？ | AI10: sprite:
AI13: だいたい、左の位置
B18: 74910019 | E18: はい | P18: 74910020 | S18: いいえ
B23: 74910021 | E23: おおぉ、さすがは先輩！ 博識ッス！！ | P23: 74910025 | S23: なるほど、なるほど！ ということは先輩、 先輩は可能性の塊ッス！
B29: 74910022 | E29: この度、チョコ職業協会でも、 冒険者の諸先輩方に 称号を付与する事になったッス！ | P29: 74910026 | S29: 称号とは誇るべき成果を上げた者に 敬意を持って捧げる２つ名の事ッス！
B35: 74910023 | E35: 成果を他者に誇るもよし。 自分の軌跡を見直すもよし。 | P35: 74910027 | S35: この度、チョコ職業協会でも、 冒険者の諸先輩方に 称号を付与する事になったッス！
B41: 74910024 | E41: 称号は、 ほんっと最高ッスよ！ | P41: 74910028 | S41: 大陸では既にポピュラーに なりつつある称号ッスが、 チョコットランドではまだま未開拓ッス！
P47: 74910029 | S47: 先輩が称号第一人者になるのも 夢じゃないッス！
E55: 74910030 | F55: なるほど
B59: 74910031 | E59: 申し遅れました！ 自分、称号を担当する事になった ノーブレスって言うッス！
B65: 74910032 | E65: 普段はチョコ職業協会 ギルドカウンター横にいるので、 ぜひぜひ利用して欲しいッス～！
E72: クエスト受注&クリア 7491001
E80: クエストクリア後、 広場から居なくなる

Sheet flow_チョコ職業協会ロビー
A1: 7491 | B1: 称号マニアのノーブレス | D1: 参照： | E1: ./test_script/NPC_7491.lua （たぶんそのままは使えないやつですが、FTSでテストした際のスクリプトです）
A2: 文字数： | B2: 一二三四五六七八九十一二三四五六 | D2: 文字数： | E2: 一二三四五六七八九十一二三四五六 | G2: 文字数： | H2: 一二三四五六七八九十一二三四五六 | J2: 100202
A3: フラグなし
J4: 対象 | K4: 名前 | L4: 座標orID | M4: Scene or スプライト名 or コメント | N4: キャラとその配置
A5: 74910001 | B5: ちわッス、先輩！ チョコ職業協会、称号担当の ノーブレスっス！ | J5: MAP | K5: チョコ職業協会 ロビー | M5: 100202.XML | N5: 1
C6: I_900037 | J6: カメラ | N6: <!-- 称号マニアのノーブレス -->
C7: 一度でも話すと | N7: <NpcId>7491</NpcId>
C8: 消える | N8: <OrgX>900</OrgX>
N9: <OrgY>600</OrgY>
N10: <Direction>5</Direction>
B11: step==10
A12: 74910002 | B12: 称号に関してなら 何でも聞いて欲しいッス！
N14: だいたい、左の位置
A19: 74910003 | B19: 称号って？ | D19: 74910004 | E19: どうやって使うの？ | G19: 74910005 | H19: なんで先輩？
A23: 74910006 | B23: 称号とは誇るべき成果を上げた者に 敬意を持って捧げる２つ名の事ッス！ | D23: 74910010 | E23: 自分の前にある 【称号】看板を押すッス！ | G23: 74910014 | H23: 自分、実は冒険者に憧れてるッス。
A29: 74910007 | B29: 大陸では既にポピュラーに なりつつある称号ッスが、 チョコットランドではまだま未開拓ッス！ | D29: 74910011 | E29: 【取得済み】・【達成済み】・【未達成】 のタブがあると思うッス！ | G29: 74910015 | H29: 称号に関わるようになったのも、 職員になったのも、 いずれは冒険者に、と思ってッス！
A35: 74910008 | B35: 成果を他者に誇るもよし。 自分の軌跡を見直すもよし。 | D35: 74910012 | E35: 【達成済み】で取得！ 【取得済み】で称号をセットっス！ 【未達成】では、 達成の条件を確認出来るッス！ | G35: 74910016 | H35: だから、冒険者の諸先輩方は み～んな【先輩】ッス！
A41: 74910009 | B41: 称号は、 ほんっと最高ッス！ | D41: 74910013 | E41: セットすると、先輩の頭上に イカス称号が付いてるはずッス！ 設定で表示非表示も選べるッスよ。
H42: step==10 へ
B48: step==10 へ | E48: step==10 へ

Sheet Message
A1: ID | B1: text | C1: npc | D1: comment
A2: 74910001 | B2: =SUBSTITUTE(flow_チョコ職業協会ロビー!$B$5,CHAR(10),"\n")&"\p" -> ちわッス、先輩！\nチョコ職業協会、称号担当の\nノーブレスっス！\p | C2: 称号マニアのノーブレス | D2: テスト
A3: 74910002 | B3: =SUBSTITUTE(flow_チョコ職業協会ロビー!$B$12,CHAR(10),"\n")&"\p" -> 称号に関してなら\n何でも聞いて欲しいッス！\p | C3: 称号マニアのノーブレス | D3: テスト
A4: 74910003 | B4: =SUBSTITUTE(flow_チョコ職業協会ロビー!$B$19,CHAR(10),"\n") -> 称号って？ | C4: 称号マニアのノーブレス | D4: テスト
A5: 74910004 | B5: =SUBSTITUTE(flow_チョコ職業協会ロビー!$E$19,CHAR(10),"\n") -> どうやって使うの？ | C5: 称号マニアのノーブレス | D5: テスト
A6: 74910005 | B6: =SUBSTITUTE(flow_チョコ職業協会ロビー!$H$19,CHAR(10),"\n") -> なんで先輩？ | C6: 称号マニアのノーブレス | D6: テスト
A7: 74910006 | B7: =SUBSTITUTE(flow_チョコ職業協会ロビー!$B$23,CHAR(10),"\n")&"\p" -> 称号とは誇るべき成果を上げた者に\n敬意を持って捧げる２つ名の事ッス！\p | C7: 称号マニアのノーブレス | D7: テスト
A8: 74910007 | B8: =SUBSTITUTE(flow_チョコ職業協会ロビー!$B$29,CHAR(10),"\n")&"\p" -> 大陸では既にポピュラーに\nなりつつある称号ッスが、\nチョコットランドではまだま未開拓ッス！\p | C8: 称号マニアのノーブレス | D8: テスト
A9: 74910008 | B9: =SUBSTITUTE(flow_チョコ職業協会ロビー!$B$35,CHAR(10),"\n")&"\p" -> 成果を他者に誇るもよし。\n自分の軌跡を見直すもよし。\p | C9: 称号マニアのノーブレス | D9: テスト
A10: 74910009 | B10: =SUBSTITUTE(flow_チョコ職業協会ロビー!$B$41,CHAR(10),"\n")&"\p" -> 称号は、\nほんっと最高ッス！\p | C10: 称号マニアのノーブレス | D10: テスト
A11: 74910010 | B11: =SUBSTITUTE(flow_チョコ職業協会ロビー!$E$23,CHAR(10),"\n")&"\p" -> 自分の前にある\n【称号】看板を押すッス！\p | C11: 称号マニアのノーブレス | D11: テスト
A12: 74910011 | B12: =SUBSTITUTE(flow_チョコ職業協会ロビー!$E$29,CHAR(10),"\n")&"\p" -> 【取得済み】・【達成済み】・【未達成】\nのタブがあると思うッス！\p | C12: 称号マニアのノーブレス | D12: テスト
A13: 74910012 | B13: =SUBSTITUTE(flow_チョコ職業協会ロビー!$E$35,CHAR(10),"\n")&"\p" -> 【達成済み】で取得！\n【取得済み】で称号をセットっス！\n\n【未達成】では、\n達成の条件を確認出来るッス！\p | C13: 称号マニアのノーブレス | D13: テスト
A14: 74910013 | B14: =SUBSTITUTE(flow_チョコ職業協会ロビー!$E$41,CHAR(10),"\n")&"\p" -> セットすると、先輩の頭上に\nイカス称号が付いてるはずッス！\n\n設定で表示非表示も選べるッスよ。\p | C14: 称号マニアのノーブレス | D14: テスト
A15: 74910014 | B15: =SUBSTITUTE(flow_チョコ職業協会ロビー!$H$23,CHAR(10),"\n")&"\p" -> 自分、実は冒険者に憧れてるッス。\p | C15: 称号マニアのノーブレス | D15: テスト
A16: 74910015 | B16: =SUBSTITUTE(flow_チョコ職業協会ロビー!$H$29,CHAR(10),"\n")&"\p" -> 称号に関わるようになったのも、\n職員になったのも、\nいずれは冒険者に、と思ってッス！\p | C16: 称号マニアのノーブレス | D16: テスト
A17: 74910016 | B17: =SUBSTITUTE(flow_チョコ職業協会ロビー!$H$35,CHAR(10),"\n")&"\p" -> だから、冒険者の諸先輩方は\nみ～んな【先輩】ッス！\p | C17: 称号マニアのノーブレス | D17: テスト
A18: 74910017 | B18: =SUBSTITUTE(flow_広場!$E$4,CHAR(10),"\n")&"\p" -> 冒険者の先輩がた、ちわッス！\n\p | C18: 称号マニアのノーブレス | D18: テスト
A19: 74910018 | B19: =SUBSTITUTE(flow_広場!$E$10,CHAR(10),"\n")&"\p" -> 突然ッスが、\n「称号」ってご存知ッスか？\p | C19: 称号マニアのノーブレス | D19: テスト
A20: 74910019 | B20: =SUBSTITUTE(flow_広場!$E$18,CHAR(10),"\n") -> はい | C20: 称号マニアのノーブレス | D20: テスト
A21: 74910020 | B21: =SUBSTITUTE(flow_広場!$S$18,CHAR(10),"\n") -> いいえ | C21: 称号マニアのノーブレス | D21: テスト
A22: 74910021 | B22: =SUBSTITUTE(flow_広場!$E$23,CHAR(10),"\n")&"\p" -> おおぉ、さすがは先輩！\n博識ッス！！\p | C22: 称号マニアのノーブレス | D22: テスト
A23: 74910022 | B23: =SUBSTITUTE(flow_広場!$E$29,CHAR(10),"\n")&"\p" -> この度、チョコ職業協会でも、\n冒険者の諸先輩方に\n称号を付与する事になったッス！\p | C23: 称号マニアのノーブレス | D23: テスト
A24: 74910023 | B24: =SUBSTITUTE(flow_広場!$E$35,CHAR(10),"\n")&"\p" -> 成果を他者に誇るもよし。\n自分の軌跡を見直すもよし。\p | C24: 称号マニアのノーブレス | D24: テスト
A25: 74910024 | B25: =SUBSTITUTE(flow_広場!$E$41,CHAR(10),"\n")&"\p" -> 称号は、\nほんっと最高ッスよ！\p | C25: 称号マニアのノーブレス | D25: テスト
A26: 74910025 | B26: =SUBSTITUTE(flow_広場!$S$23,CHAR(10),"\n")&"\p" -> なるほど、なるほど！\nということは先輩、\n先輩は可能性の塊ッス！\p | C26: 称号マニアのノーブレス | D26: テスト
A27: 74910026 | B27: =SUBSTITUTE(flow_広場!$S$29,CHAR(10),"\n")&"\p" -> 称号とは誇るべき成果を上げた者に\n敬意を持って捧げる２つ名の事ッス！\p | C27: 称号マニアのノーブレス | D27: テスト
A28: 74910027 | B28: =SUBSTITUTE(flow_広場!$S$35,CHAR(10),"\n")&"\p" -> この度、チョコ職業協会でも、\n冒険者の諸先輩方に\n称号を付与する事になったッス！\p | C28: 称号マニアのノーブレス | D28: テスト
A29: 74910028 | B29: =SUBSTITUTE(flow_広場!$S$41,CHAR(10),"\n")&"\p" -> 大陸では既にポピュラーに\nなりつつある称号ッスが、\nチョコットランドではまだま未開拓ッス！\p | C29: 称号マニアのノーブレス | D29: テスト
A30: 74910029 | B30: =SUBSTITUTE(flow_広場!$S$47,CHAR(10),"\n")&"\p" -> 先輩が称号第一人者になるのも\n夢じゃないッス！\p | C30: 称号マニアのノーブレス | D30: テスト
A31: 74910030 | B31: =SUBSTITUTE(flow_広場!$F$55,CHAR(10),"\n") -> なるほど | C31: 称号マニアのノーブレス | D31: テスト
A32: 74910031 | B32: =SUBSTITUTE(flow_広場!$E$59,CHAR(10),"\n")&"\p" -> 申し遅れました！\n自分、称号を担当する事になった\nノーブレスって言うッス！\p | C32: 称号マニアのノーブレス | D32: テスト
A33: 74910032 | B33: =SUBSTITUTE(flow_広場!$E$65,CHAR(10),"\n")&"\p" -> 普段はチョコ職業協会\nギルドカウンター横にいるので、\nぜひぜひ利用して欲しいッス～！\p | C33: 称号マニアのノーブレス | D33: テスト

Sheet クエスト
A2: クエストＩＤ | B2: レベル下限 | C2: レベル上限 | D2: クエストタイプ※1 | E2: タイマークエスト | F2: クリア条件職業 | G2: クリア条件ID1 | H2: クリア条件個数1 | I2: クリア条件ID2 | J2: クリア条件個数2 | K2: クリア条件ID3 | L2: クリア条件個数3 | M2: クリア条件（お金） | N2: 支給品アイテムＩＤ | O2: 支給品アイテム個数 | P2: 報酬スキルID | Q2: 報酬アイテムID | R2: 報酬アイテム個数 | S2: 報酬金 | T2: 報酬経験値 | U2: 記念アイコン抑制フラグ | V2: クエスト開始日 | W2: クエスト終了日 | X2: クエスト登録日 | Y2: クリア可能数 制限種別 | Z2: クリア可能数 | AA2: 報酬フィールドID | AB2: モンスター出現フィールドID | AC2: モンスター出現 位置（X座標） | AD2: モンスター出現 位置（Y座標） | AE2: ライセンスID | AF2: ライセンスレベル | AG2: ペットID | AH2: ログフラグ | AI2: 冒険の証 | AJ2: パーティプレイ | AK2: 報酬宝箱ID | AL2: 受注クラス | AM2: 報酬配布先バッグ種別 | AN2: 達成通知 | AO2: 次のクエストID | AP2: 順序ルール | AQ2: 連動クエストID | AR2: 報酬情報 | AS2: 条件判定無視 | AT2: クエスト中リスト表示 | AU2: クエストクリアリスト表示 | AV2: 地名 | AW2: マップコード | AX2: ゲートコード | AY2: タイトル | AZ2: 依頼者名前 | BA2: 匿名依頼者名前 | BB2: 匿名依頼者 | BC2: 依頼内容 | BD2: 依頼条件 | BE2: 報酬・クリア前 | BF2: 報酬・クリア後 | BG2: アイコンファイル | BH2: クエスト案内所 管理番号 | BI2: シリアルナンバー 表示フラグ | BJ2: クエスト案内所 詳細説明テキスト | BK2: 受注時 チャットログ表示 | BL2: クリア時 チャットログ表示 | BM2: クリア条件達成時のクリア処理有無( 0:無、1:有 ) (※達成通知(ACHIEVENOTIFY)をONに設定すること) | BN2: 企画用 | BO2: リリース
A3: QUESTID | B3: LEVELFROM | C3: LEVELTO | D3: QUESTTYPE | E3: TIMER | F3: JOBID | G3: COLLECTID1 | H3: COLLECTCOUNT1 | I3: COLLECTID2 | J3: COLLECTCOUNT2 | K3: COLLECTID3 | L3: COLLECTCOUNT3 | M3: COLLECTMONEY | N3: PROVIDEITEMID | O3: PROVIDEITEMCOUNT | P3: REWARDSKILLID | Q3: REWARDITEMID | R3: REWARDITEMCOUNT | S3: REWARDMONEY | T3: REWARDEXPERIENCE | U3: GAMEICONFLAG | V3: STARTDT | W3: ENDDT | X3: REGDT | Y3: LIMITCNTTYPE | Z3: LIMITCNT | AA3: FIELDLINKID | AB3: MONSTERFIELDID | AC3: MONSTERPOSX | AD3: MONSTERPOSY | AE3: LICENSEID | AF3: LICENSELEVEL | AG3: PETID | AH3: LOGFLAG | AI3: ADVPROOF | AJ3: PARTYPLAY | AK3: REWARDTRSID | AL3: ACCEPTCLASS | AM3: RWDBAGTYPE | AN3: ACHIEVENOTIFY | AO3: NEXTQUESTID | AP3: SEQRULE | AQ3: LINKID | AR3: REWARDPARAM | AS3: IGNORECONDITION | AT3: PushToTodoList | AU3: PushToClearedList | AV3: MAP | AW3: MAPCODE | AX3: GATECODE | AY3: TITLE | AZ3: NPC | BA3: AnonymousNPC | BB3: AnonymousNPCID | BC3: TEXT | BD3: Conditions | BE3: RemunerationBefore | BF3: RemunerationAfter | BG3: Icon | BH3: QuestInformationNo | BI3: ShowSerialNo | BJ3: Text2 | BK3: Text3 | BL3: Text4 | BM3: ImmediateClear | BN3: comment
A4: 7491001 | B4: 0 | C4: 99 | D4: 3 | E4: 0 | F4: 0 | G4: 0 | H4: 0 | I4: 0 | J4: 0 | K4: 0 | L4: 0 | M4: 0 | N4: 0 | O4: 0 | P4: 0 | Q4: 0 | R4: 1 | S4: 0 | T4: 0 | U4: 1 | V4: 44481.417 | W4: 44846.458 | X4: 44453.417 | Y4: 0 | Z4: 1 | AA4: 0 | AB4: 0 | AC4: 0 | AD4: 0 | AE4: 0 | AF4: 0 | AG4: 0 | AH4: 1 | AI4: 0 | AJ4: 0 | AK4: 0 | AL4: 0 | AM4: 1 | AN4: 0 | AO4: 0 | AQ4: 7491001 | AS4: 0 | AT4: 0 | AU4: 0 | AV4: 100001 | AW4: 0 | AX4: 0 | AY4: 称号機能が追加されたよ！ | AZ4: 7491 | BA4: - | BB4: 0 | BC4: （表示されない） | BD4: 0 | BE4: （表示されない） | BF4: 0 | BG4: image_icon/I_710001.png | BH4: 0 | BI4: 1 | BJ4: - | BK4: - | BL4: - | BM4: 0 | BN4: 称号告知NPC出し入れ用 | BO4: 44818

Sheet エモティコン一覧
B1: 画像 | C1: アイコン | D1: png
C2: I_900001 | D2: emo_900001
C3: I_900002 | D3: emo_900002
C4: I_900003 | D4: emo_900003
C5: I_900004 | D5: emo_900004
C6: I_900005 | D6: emo_900005
C7: I_900006 | D7: emo_900006
C8: I_900007 | D8: emo_900007
C9: I_900008 | D9: emo_900008
C10: I_900009 | D10: emo_900009
C11: I_900010 | D11: emo_900010
C12: I_900011 | D12: emo_900011
C13: I_900012 | D13: emo_900012
... C67: I_900066 | D67: emo_900066

Sheet 叩き台
A2: 名前： | B2: 称号マニアのノーブレス | E2: 性格： | F2: 好きな事は早口で喋る系オタク
A4: 口調（ベースイメージはパワプロのほむらちゃん）：
A5: 「～っス！」「じぶん、興奮が抑えられないッス！」「先輩はどう思ってるっスか？」
A6: 「先輩が得た称号はこのとおりッス！」「先輩が羨ましいッス～！」
A8: 役割： | B8: 称号機能への導入と説明 | E8: 一人称： | F8: じぶん（常にひらがな）
A10: 立場： | B10: 職業協会の職員 | E10: 二人称： | F10: プレイヤー：先輩/その他：〇〇さん
A14: fixデザイン
I16: ・髪： | J16: フルクトゥス[緑]
C17: あとで画像貼れ | J17: 400cp
I18: ・頭： | J18: まるメガネ
J19: 17800c
I21: ・服： | J21: 女用マジカルスーツ
J22: 33000c
I24: ・背： | J24: 女用グレースケープ
A48: デザイン案１
G50: ・髪： | H50: フルクトゥス[緑]
H51: 400cp
G52: ・頭： | H52: まるメガネ
H53: 17800c | I53: 黒いプルプルコア | K53: もろい鉱石
G54: ・服： | H54: スカルアミーゴ
H55: 10,000,000ｃ | I55: 男用ノーライフローブ | K55: カースドゴブレット | M55: デビルズスター
H56: ※懸念点：男性用の服である
H57: 男性用の服だが、イメージ的にはピッタリなので問題なければこれ着せたい。
H58: 特徴的デザインにするならコレ。
G59: ・背： | H59: 無地のマント
H60: 300c
A75: デザイン案２
G77: ・髪： | H77: フルクトゥス[緑]
H78: 400cp
G79: ・頭： | H79: まるメガネ
H80: 17800c | I80: 黒いプルプルコア | K80: もろい鉱石
G81: ・服： | H81: 女用マジカルスーツ
H82: 33000c
H83: ※スカルアミーゴがダメなら、こちらかなと。
H84: 特徴抑えるならコレ。
G85: ・背： | H85: 無地のマント
H86: 300c
