Workbook
Name node13: scene_masters_for_2!#REF!

Sheet npc_masters
A1: 無視 | B1: CODE | C1: 特殊NPC | D1: 名前 | E1: アセット名
B2: code | C2: special_flg | D2: name | E2: asset_name
A3: ＃モーション無しNPC
B4: 1 | D4: 村男 | E4: np_01_001
B5: 2 | D5: 男児 | E5: np_01_002
B6: 3 | D6: 老爺 | E6: np_01_003
B7: 4 | D7: 坊主 | E7: np_01_010
B8: 5 | D8: 店員男 | E8: np_01_012
B9: 6 | D9: 釣り人 | E9: np_01_014
B10: 7 | D10: 狩人 | E10: np_01_015
B11: 8 | D11: ゼッピン | E11: np_01_016
B12: 9 | D12: 陰陽師 | E12: np_01_017
B13: 10 | D13: 村娘 | E13: np_02_001
B14: 11 | D14: 女児 | E14: np_02_002
B15: 12 | D15: 老婆 | E15: np_02_003
B16: 13 | D16: おばちゃん | E16: np_02_010
A17: ＃モーション付きNPC
B18: 101 | C18: TRUE | D18: アカザ | E18: np_02_012
B19: 102 | C19: TRUE | D19: 澪 | E19: np_02_011

Sheet voice_masters
A1: 無視 | B1: CODE | C1: 種別（鳴らす場所） 1: タイトルムービー 2: 出撃タップ 3: バトル開始 4: バトル勝利 5: バトル敗北 6: バトル撤退 7: キャラレベルアップ 8: 御霊枠増加（枠色変化） 9: 式姫進化 10: プレイヤーレベルアップ 11: ログイン時 12: 試練を開いた時 13: 試練の報酬受け取り 14: DL中 15: ログインボーナス 16: 贈り物ボックスを開いた時 17: 贈り物を受け取る 18: その他 19: タイトルコール 101: 交換所に入ったとき 102: 交換所内 103: 交換するとき 201: 工房に入ったとき 202: 工房内 203: 強化したとき | D1: 種別内の区分け 8: 御霊枠増加 N = 段階数 9: 式姫進化 N = 進化後の☆数 11: 時間別 0 or 空白: いつでも 1: 朝（6時〜10時） 2: 昼（12時〜13時） 3: 夜（19時〜25時） 12: 試練を開いたとき 1: 日課 2: 週課 3: 累計 4: イベント 14: DL中 1: 初回 2: それ以外 ※キャンペーン系は時期に合わせて適宜アンコメントして使う | E1: NPC CODE | F1: NPC名 | G1: 音声ファイルのパス | H1: メモ | I1: セリフ
B2: code | C2: kind | D2: kind_value | E2: npc_code | G2: label | I2: message
A3: # 芙蓉
B4: 1001 | C4: 1 | E4: 1 | F4: =VLOOKUP(E4,npc_masters!B:D,2) -> 0 | G4: 1_movie_001 | I4: 遠き世に 生まれし君は 我を知らず
B5: 1002 | C5: 1 | E5: 1 | F5: =VLOOKUP(E5,npc_masters!B:D,2) -> 0 | G5: 1_movie_002 | I5: 我の心も つゆ知らず
B6: 1003 | C6: 1 | E6: 1 | F6: =VLOOKUP(E6,npc_masters!B:D,2) -> 0 | G6: 1_movie_003 | I6: 地は妖の 巣となりて
B7: 1004 | C7: 1 | E7: 1 | F7: =VLOOKUP(E7,npc_masters!B:D,2) -> 0 | G7: 1_movie_004 | I7: 遠き世を捨て 君を呼ぶ
B8: 1005 | C8: 1 | E8: 1 | F8: =VLOOKUP(E8,npc_masters!B:D,2) -> 0 | G8: 1_movie_005 | I8: 常しへに想う 君の名を
B9: 1006 | C9: 2 | E9: 1 | F9: =VLOOKUP(E9,npc_masters!B:D,2) -> 0 | G9: 1_syutsugeki_001 | I9: 出発しましょう。
B10: 1007 | C10: 2 | E10: 1 | F10: =VLOOKUP(E10,npc_masters!B:D,2) -> 0 | G10: 1_syutsugeki_002 | I10: 準備は整いました。
B11: 1008 | C11: 2 | E11: 1 | F11: =VLOOKUP(E11,npc_masters!B:D,2) -> 0 | G11: 1_syutsugeki_003 | I11: 討伐に行きましょう。
B12: 1009 | C12: 3 | E12: 1 | F12: =VLOOKUP(E12,npc_masters!B:D,2) -> 0 | G12: 1_battle_start_001 | I12: 無事を祈っています。
B13: 1010 | C13: 3 | E13: 1 | F13: =VLOOKUP(E13,npc_masters!B:D,2) -> 0 | G13: 1_battle_start_002 | I13: 負けないでくださいね。
B14: 1011 | C14: 3 | E14: 1 | F14: =VLOOKUP(E14,npc_masters!B:D,2) -> 0 | G14: 1_battle_start_003 | I14: 気をつけてくださいね。
B15: 1012 | C15: 4 | E15: 1 | F15: =VLOOKUP(E15,npc_masters!B:D,2) -> 0 | G15: 1_battle_win_001 | I15: やりましたね！
... B25: 1022 | C25: 7 | E25: 1 | F25: =VLOOKUP(E25,npc_masters!B:D,2) -> 0 | G25: 1_chara_levelup_005 | I25: いつも特訓頑張っていますね。
B26: 1023 | C26: 8 | D26: 1 | E26: 1 | F26: =VLOOKUP(E26,npc_masters!B:D,2) -> 0 | G26: 1_chara_mitama_001 | H26: （１段階目） | I26: やりましたね。
B27: 1024 | C27: 8 | D27: 2 | E27: 1 | F27: =VLOOKUP(E27,npc_masters!B:D,2) -> 0 | G27: 1_chara_mitama_002 | H27: （２段階目） | I27: いい調子ですね。
B28: 1025 | C28: 8 | D28: 3 | E28: 1 | F28: =VLOOKUP(E28,npc_masters!B:D,2) -> 0 | G28: 1_chara_mitama_003 | H28: （３段階目） | I28: 式姫も喜んでますよ。
B29: 1026 | C29: 8 | D29: 4 | E29: 1 | F29: =VLOOKUP(E29,npc_masters!B:D,2) -> 0 | G29: 1_chara_mitama_004 | H29: （４段階目） | I29: あと少し、頑張ってください。
B30: 1027 | C30: 8 | D30: 5 | E30: 1 | F30: =VLOOKUP(E30,npc_masters!B:D,2) -> 0 | G30: 1_chara_mitama_005 | H30: （５段階目） | I30: とうとうやりましたね！ おめでとうございます！
B31: 1028 | C31: 9 | D31: 1 | E31: 1 | F31: =VLOOKUP(E31,npc_masters!B:D,2) -> 0 | G31: 1_chara_shinka_001 | H31: （１段階目） | I31: 式姫との絆が育まれました。
B32: 1029 | C32: 9 | D32: 2 | E32: 1 | F32: =VLOOKUP(E32,npc_masters!B:D,2) -> 0 | G32: 1_chara_shinka_002 | H32: （２段階目） | I32: 式姫との絆が順調に育っていますね。
B33: 1030 | C33: 9 | D33: 3 | E33: 1 | F33: =VLOOKUP(E33,npc_masters!B:D,2) -> 0 | G33: 1_chara_shinka_003 | H33: （３段階目） | I33: 式姫との絆が強くなりました。
B34: 1031 | C34: 9 | D34: 4 | E34: 1 | F34: =VLOOKUP(E34,npc_masters!B:D,2) -> 0 | G34: 1_chara_shinka_004 | H34: （４段階目） | I34: 式姫との絆が深まりましたね。
B35: 1032 | C35: 9 | D35: 5 | E35: 1 | F35: =VLOOKUP(E35,npc_masters!B:D,2) -> 0 | G35: 1_chara_shinka_005 | H35: （５段階目） | I35: この絆は、誰にも切れません。
B36: 1033 | C36: 10 | E36: 1 | F36: =VLOOKUP(E36,npc_masters!B:D,2) -> 0 | G36: 1_player_levelup_001 | I36: 修行の成果ですね。
B37: 1034 | C37: 10 | E37: 1 | F37: =VLOOKUP(E37,npc_masters!B:D,2) -> 0 | G37: 1_player_levelup_002 | I37: いつも応援しています。
B38: 1035 | C38: 10 | E38: 1 | F38: =VLOOKUP(E38,npc_masters!B:D,2) -> 0 | G38: 1_player_levelup_003 | I38: 頑張りましたね。
B39: 1036 | C39: 10 | E39: 1 | F39: =VLOOKUP(E39,npc_masters!B:D,2) -> 0 | G39: 1_player_levelup_004 | I39: 努力が実を結んで、私も嬉しいです。
B40: 1037 | C40: 10 | E40: 1 | F40: =VLOOKUP(E40,npc_masters!B:D,2) -> 0 | G40: 1_player_levelup_005 | I40: よくできました。
B41: 1038 | C41: 11 | D41: 1 | E41: 1 | F41: =VLOOKUP(E41,npc_masters!B:D,2) -> 0 | G41: 1_login_001 | H41: 時間別 | I41: おはようございます。今日もいい一日になりそうですね。
B42: 1039 | C42: 11 | D42: 2 | E42: 1 | F42: =VLOOKUP(E42,npc_masters!B:D,2) -> 0 | G42: 1_login_002 | H42: 時間別 | I42: こんにちは。もうお昼ごはんは食べましたか？ ちゃんと食べないとお身体に障りますから、気をつけてくださいね。
B43: 1040 | C43: 11 | D43: 3 | E43: 1 | F43: =VLOOKUP(E43,npc_masters!B:D,2) -> 0 | G43: 1_login_003 | H43: 時間別 | I43: こんばんは。今日はどんな一日でしたか？ 一日の終わりにお会いできてよかったです。あまり無理せず、お休みになってくださいね。
B44: 1041 | C44: 11 | E44: 1 | F44: =VLOOKUP(E44,npc_masters!B:D,2) -> 0 | G44: 1_login_004 | I44: お帰りなさい。しばらく姿が見えなかったので、心配していました……無事でよかったです。
B45: 1042 | C45: 11 | E45: 1 | F45: =VLOOKUP(E45,npc_masters!B:D,2) -> 0 | G45: 1_login_005 | I45: 黙って姿を消さないでください。タンコと二人……探し回っていたんですよ？
A46: # | B46: 1043 | C46: 11 | E46: 1 | F46: =VLOOKUP(E46,npc_masters!B:D,2) -> 0 | G46: 1_login_006 | I46: 今日も、よろしくお願いします。私も精一杯お支えいたしますからね。
A47: # | B47: 1044 | C47: 11 | E47: 1 | F47: =VLOOKUP(E47,npc_masters!B:D,2) -> 0 | G47: 1_login_007 | I47: お帰りなさい。討伐の準備は整っていますよ。すぐに出かけますか？
A48: # | B48: 1045 | C48: 11 | E48: 1 | F48: =VLOOKUP(E48,npc_masters!B:D,2) -> 0 | G48: 1_login_008 | I48: 今日もお会いできてよかったです。さて、と。何から始めましょうか？
A49: # | B49: 1046 | C49: 11 | E49: 1 | F49: =VLOOKUP(E49,npc_masters!B:D,2) -> 0 | G49: 1_login_009 | I49: お帰りなさい。最近、くらかけみやさんが尻尾で何を伝えたいのか、わかるようになってきました。あなたはどうですか？
...

Sheet scene_masters_for_0
A1: 無視 | B1: ストーリーCODE | C1: BGM名 | D1: ムービー名 ムービーが導入されるシーンは他の要素を無視してムービーを再生します | E1: 背景名 「非表示」と記入すると 表示されていた背景が消える | F1: エフェクト | G1: ポップアップ 「非表示」と記入すると 表示されていたポップアップが消える douji | H1: SE名 | I1: ボイス名 | J1: キャラ 敵 ト書き下 ト書き中 キャラ説明(15字×3行) ステージ説明 アニメ | K1: 話者名 「非表示」と記入するとposition_kiindで指定した場所のキャラクターの表示を削除 | L1: 話者サイズ デフォルトサイズ 1 | M1: 話者のY座標 | N1: 立ち位置 1: 左 2: 右 | O1: 表情 1: 通常 2: 喜び 3: 怒り 4: 哀しい 5: 驚き 6: キャラ固有 | P1: アクション 1: 待機 2: 驚き 3: 胸に手 4: 頷き | Q1: 漫符 1: ！マーク 2: 驚き 3: 喜び 4: 気付き 5: 音符 6: ため息 7: ？マーク 8: 怒り 9: 沈黙 10: 焦り 11: ぷんすか 12: やれやれ 13: キラキラ 14: ハート 15: 汗 16: ガーン 17: zzz | R1: 話者名 キャラ名 ステージ名 | S1: ラベル gotoやcaseで使う | T1: /input プレイヤー名入力（初回のみ） /effect frontfadein 前面フェードイン /effect frontfadeout 前面フェードアウト /effect frontflash 前面フラッシュ /effect backfadein 背景フェードイン /effect backfadeout 背景フェードアウト /effect backflash 背景フラッシュ /effect shake 背景振動 /effect sepiain 回想モードにする /effect sepiaout 回想モードを終わる /hidden テキストフィールドの削除 /case 分岐 /goto ラベルへジャンプ /sleep x秒待機する あああああああああああああああああああああああ
B2: story_code | C2: bgm_name | D2: movie_name | E2: background_name | F2: effect_background_name | G2: popup_name | H2: se_name | I2: voice_name | J2: display_kind_key | K2: speaker_name | L2: speaker_scale | M2: speaker_pos_y | N2: position_kind | O2: face_kind | P2: action_kind | Q2: emotion_kind | R2: display_name | S2: label | T2: content
A3: # | R3: 一二三四五 | T3: 一二三四五六七八九十一二三四五六八九十一二三四
A4: # | B4: ゲーム開始
A5: # | B5: 1 | J5: ト書き中 | T5: ＜実験用スクリプトです＞
B6: 1 | J6: ト書き中 | T6: ねんねんころりよ おころりよ。 ぼうやはよい子だ ねんねしな。
B7: 1 | J7: ト書き中 | T7: ぼうやのお守りは どこへ行った。 あの山こえて…….
A8: # | B8: 1 | J8: ト書き中 | T8: ぼうやのお守りは どこへ行った。 あの山こえて 里へ行った。
A9: # | B9: 1 | J9: ト書き中 | T9: 里のみやげに 何もろうた。 でんでん太鼓に 笙の笛。
B10: 1 | R10: ？？？ | T10: ……眠ったわね。
B11: 1 | R11: ？？？ | T11: あぁ、坊や……私の坊や。
B12: 1 | R12: ？？？ | T12: ――私の愛しい……
B13: 1 | R13: ？？？ | T13: ……
B14: 1 | T14: /input
B15: 1 | R15: ？？？ | T15: (player)... ...
B16: 1 | R16: ？？？ | T16: どうか、どうか許しておくれ。
B17: 1 | R17: ？？？ | T17: ……あなたを一人残しゆく――
B18: 1 | R18: ？？？ | T18: この、母を。
A19: # | B19: プロローグムービー | R19: ★
B20: 2 | D20: prologue_movie
A21: # | B21: チュートリアル関連 プロローグ | R21: ★
B22: 3 | E22: black_background | J22: ト書き中 | R22: ？？？ | T22: ――くん……！
B23: 3 | J23: ト書き中 | R23: ？？？ | T23: ある……じ……く……
B24: 3 | E24: bg_01002_d | J24: キャラ | K24: 緋桐 | N24: 1 | O24: 1 | P24: 1 | Q24: 1 | R24: ？？？ | T24: 主（あるじ）くん……！
B25: 3 | J25: キャラ | K25: 緋桐 | N25: 1 | O25: 1 | P25: 1 | R25: ？？？ | T25: どーしたんですか、ぼーっとしちゃって。 こんな大事な日に。
B26: 3 | J26: キャラ | K26: 緋桐 | N26: 1 | O26: 2 | P26: 1 | Q26: 7 | R26: ？？？ | T26: あれ、もしかして緊張してるんですか？
B27: 3 | J27: キャラ | K27: 緋桐 | N27: 1 | O27: 2 | P27: 4 | Q27: 3 | R27: ？？？ | T27: あはは、まあ無理もありませんね。
B28: 3 | J28: キャラ | K28: 緋桐 | N28: 1 | O28: 2 | P28: 3 | R28: ？？？ | T28: いよいよ主（あるじ）くんも、 正式な陰陽師の一員となるわけで……
B29: 3 | J29: キャラ | K29: 緋桐 | N29: 1 | O29: 1 | P29: 1 | R29: ？？？ | T29: 安心して下さい。 今日だけはあなたのことをからかわず――
B30: 3 | J30: キャラ | K30: 緋桐 | N30: 1 | O30: 2 | P30: 3 | R30: 緋桐 | T30: この僕、式姫緋桐（ひぎり）が ちゃんと補佐してあげますから！
B31: 3 | J31: キャラ説明 | K31: 緋桐 | O31: 1 | P31: 1 | T31: ★緋桐(仮 幼い頃から共に居る式姫。 主人公にとって姉のような存在。
B32: 3 | J32: キャラ | K32: 緋桐 | N32: 1 | O32: 1 | P32: 1 | R32: 緋桐 | T32: いいですか。呼ばれたら返事をして部屋へ入り、 自分の名を記すんですよ。
B33: 3 | J33: キャラ | K33: 緋桐 | N33: 1 | O33: 1 | P33: 1 | R33: 緋桐 | T33: その後は説明を受けて正当な――
B34: 3 | J34: ト書き中 | R34: ？？？ | T34: 「――次の者、入れ！」
B35: 3 | J35: キャラ | K35: 緋桐 | N35: 1 | O35: 1 | P35: 1 | R35: 緋桐 | T35: お、呼ばれましたね。 それでは行ってらっしゃい！
B36: 3 | J36: キャラ | K36: 非表示 | N36: 1
B37: 3 | F37: black_background | T37: /effect frontfadein
B38: 3 | E38: bg_01004_d
B39: 3 | F39: black_background | T39: /effect frontfadeout
B40: 3 | J40: キャラ | K40: アカザ | N40: 1 | O40: 5 | P40: 1 | R40: ？？？ | T40: ……(player)。
...

Sheet scene_masters_for_2
A1: 無視 | B1: ストーリーCODE | C1: BGM名 | D1: ムービー名 ムービーが導入されるシーンは他の要素を無視してムービーを再生します | E1: 背景名 「非表示」と記入すると 表示されていた背景が消える | F1: エフェクト | G1: ポップアップ 「非表示」と記入すると 表示されていたポップアップが消える douji | H1: SE名 | I1: ボイス名 | J1: キャラ 敵 ト書き下 ト書き中 キャラ説明(15字×3行) ステージ説明 アニメ | K1: 話者名 「非表示」と記入するとposition_kiindで指定した場所のキャラクターの表示を削除 | L1: 話者サイズ デフォルトサイズ 1 | M1: 話者のY座標 | N1: 立ち位置 1: 左 2: 右 | O1: 表情 1: 通常 2: 喜び 3: 怒り 4: 哀しい 5: 驚き 6: キャラ固有 | P1: アクション 1: 待機 2: 驚き 3: 胸に手 4: 頷き | Q1: 漫符 1: ！マーク 2: 驚き 3: 喜び 4: 気付き 5: 音符 6: ため息 7: ？マーク 8: 怒り 9: 沈黙 10: 焦り 11: ぷんすか 12: やれやれ 13: キラキラ 14: ハート 15: 汗 16: ガーン 17: zzz | R1: 話者名 キャラ名 ステージ名 | S1: ラベル gotoやcaseで使う | T1: /input プレイヤー名入力（初回のみ） /effect frontfadein 前面フェードイン /effect frontfadeout 前面フェードアウト /effect frontflash 前面フラッシュ /effect backfadein 背景フェードイン /effect backfadeout 背景フェードアウト /effect backflash 背景フラッシュ /effect shake 背景振動 /effect sepiain 回想モードにする /effect sepiaout 回想モードを終わる /hidden テキストフィールドの削除 /case 分岐 /goto ラベルへジャンプ /sleep x秒待機する あああああああああああああああああああああああ
B2: story_code | C2: bgm_name | D2: movie_name | E2: background_name | F2: effect_background_name | G2: popup_name | H2: se_name | I2: voice_name | J2: display_kind_key | K2: speaker_name | L2: speaker_scale | M2: speaker_pos_y | N2: position_kind | O2: face_kind | P2: action_kind | Q2: emotion_kind | R2: display_name | S2: label | T2: content
A3: # | R3: 一二三四五 | T3: 一二三四五六七八九十一二三四五六八九十一二三四
A4: # | B4: 第2章：桜ノ国
A5: # | R5: １＿１
N6: 1 | R6: 緋桐 | T6: おー！ ここが『海辺ノ国』ですか。 名前の通り、海が広がってますね。
N7: 2 | R7: 澪 | T7: おおきな……みず、すな、……からい、かぜ。 ……ふしぎ。
N8: 1 | R8: 緋桐 | T8: お、澪さん。海ははじめてですか？
N9: 2 | R9: 澪 | T9: （コクリ……）
N10: 1 | R10: 緋桐 | T10: そうなんですね。僕も随分久しぶりです。 坤ノ国には海がありませんでしたからね。
N11: 1 | R11: 緋桐 | T11: せっかくですから、主くん。 少し散策してみますか。
R12: ト書き中 | T12: 「思い知れ、思い知るカメ……」
T13: 「ど、どうかごかんべんを……」
N14: 1 | R14: 緋桐 | T14: あれ？ なんか浜の方から声が……
N15: 2 | R15: 澪 | T15: あっち……妖と、人の気配。
N16: 1 | R16: 緋桐 | T16: 行ってみましょう！
A17: # | R17: １＿２
R18: 亀A | T18: ぎゃーはっは！ ゆかいゆかい。
R19: 亀B | T19: やはり人間を虐げるのはたまらんのう！
R20: 村人 | T20: お助け下さい……！ どうかお許しを……！
R21: 亀A | T21: 許すわけがなかろう。
N22: 1 | R22: 緋桐 | T22: た、大変です主くん！ 人が、亀……の妖に襲われています！
N23: 2 | R23: 澪 | T23: ……助け、る……！
R24: 亀A | T24: あん？ なんだお前ら、どこの村のやつらだ？
R25: 亀B | T25: 勝手に村から出るとは ……これはお仕置きが必要じゃな。
A26: # | R26: １＿３
R27: 亀A | T27: こ、こいつら……式姫を連れてるぞ！ 村の人間じゃな――
R28: 亀B | T28: ……無念……
N29: 1 | R29: 緋桐 | T29: 倒しましたか。随分偉そうな妖でしたね。
N30: 2 | R30: 澪 | T30: ……かめかめ。
R31: 村人 | T31: あ、あぁ……
N32: 1 | R32: 緋桐 | T32: 怪我はありませんか？ もう大丈夫ですよ。
R33: 村人 | T33: な、なんて事を…… 亀を倒してしまうなんて……
N34: 1 | R34: 緋桐 | T34: オラが我慢すれば良かったのに。 終わりだ……この村は終わりだ……！
N35: 2 | R35: 澪 | T35: ……だっと、の、ごとく。
N36: 1 | R36: 緋桐 | T36: せっかく助けたのに……どういう事なんでしょう？
A37: # | R37: ２＿１
N38: 2 | R38: 澪 | T38: うみ……すな、なみ……
R39: ト書き中 | T39: ――パシャパシャッ！
N40: 1 | R40: 緋桐 | T40: ふふ、澪さん楽しそう。
...

Sheet テキストガイドライン
B1: 【うつしよ２】ではスマホアプリであることに加え、「ライトユーザーを囲いに行く」という目的の為、これまでのシナリオ表記とは異なるガイドラインで作成する。
C2: →要は難しい漢字や表現は使わないようにする、ということ。
C3: →一部、世界観を表すため等の理由で漢字表記する。
B4: テキスト作成用ガイドライン Ver.1.0
B7: ■ | C7: 読めないおそれのある難しい漢字は避け、「常用漢字表」*にある漢字を基準とする。
B8: ■ | C8: 特に指定がある場合を除いて、表記は「記者ハンドブック」*を基準とする（推奨）
B9: ■ | C9: 時代設定上、また世界観を表す為に上記以外の漢字を使用する場合は、（）を用いてふりがなをつけること。
C11: *常用漢字表・・・１９８１年の内閣告示により、一般の社会生活における漢字使用の目安として定められた１９４５種の漢字。
D12: 市販されている国語辞書の巻末などで確認できます。
D13: http://www.bunka.go.jp/kokugo_nihongo/sisaku/joho/joho/kijun/naikaku/pdf/joyokanjihyo_20101130.pdf
C14: *記者ハンドブック・・・共同通信発行。用字・用語表記の統一基準として報道関係者/編集関係者に広く利用されている
D15: http://kk.kyodo.co.jp/pb/hb/handbook.htm
B16: ■ | C16: モバイル端末用テキストであることを意識してテキストを作成するものとする。
B18: 文字表記のガイドライン
B19: ■ | C19: ひらがな表記の原則
C20: 代名詞、連体詞、接続詞、感動詞、助詞、助動詞・補助用言、形式名詞はひらがなを主体とする
C21: 副詞はひらがなと漢字を使い分ける。
C23: 用途により、ひらがなで表記する語
C24: ☆ | D24: 補助動詞として使う、または実質的な意味が薄れた場合、ひらがなで表記するもの
D25: いく（行く） | J25: 満足がいく、成長していく
D26: くる（来る） | J26: あたまにくる、帰ってくる
D27: みる（見る） | J27: かんがえてみる、朝起きてみれば
D28: ほしい（欲しい） | J28: みてほしい、改革してほしい
D29: おく（置く） | J29: 計算しておく
D30: いう（言う） | J30: ～という人、経験がものをいう、どちらかと言えば
D31: あげる（上げる） | J31: プレゼントをあげる、看病してあげる
C32: ☆ | D32: 形式名詞として使う場合、ひらがなで表記する語
D33: とき（時） | J33: ○時と場合、時には ×事故が起きた時、その時
D34: わけ（訳） | J34: ○言い訳、申し訳ない ×帰る訳にはいかない、そういう訳で
D35: もの（物） | J35: ○物言い、物覚え、物足りない、会社の物 ×～という物、見たい物だ、物ともしない
D36: ところ（所） | J36: ○所狭し、至る所 ×いまの所 勝負所 望む所
C37: ☆ | D37: 原則ひらがなで表記するもの
D38: できる（出来る） | J38: ～できる、できる限り、できあがり、橋ができる、できたて、できばえ
D39: いる（居る） | J39: 部屋にいる、犬がいる、気がきいている
D40: よい（良い） | J40: 補助用言、接尾語は平仮名。……してよい、～したほうがよいでしょう、それでよい。一般用語は漢字。頭が良い、感じが良いetc
D41: かた（方） | J41: やりかたは～、
D42: ほか（他） | J42: ほかの人は
D43: だめ（駄目） | J43: だめ
D44: めざす（目指す） | J44: めざす
D45: あたりまえ（当たり前） | J45: あたりまえ
...

Sheet トーン＆マナー
E3: 漢字で表記するもの
E5: 早速
E6: 沢山 | F6: 記者ハンドブックでは開くけど、ここでは漢字。
E7: 恐らく | F7: 記者ハンドブックでは仮名もあるけど、他タイトルに合わせる
E8: 嬉しい | F8: 常用漢字ではないが、漢字表記
E9: 辿り着く | F9: 常用漢字ではないが、漢字表記
E10: 分かる | F10: 返事の「わかった」「わかりました」は開く。
E11: あたり→辺り
E12: いろいろ→色々
E13: 良かった
E14: 別に
E15: 付いて行く
E16: 付いて来る
E17: 私達・式姫達
E21: ひらがなで表記するもの
E23: かわいそう（可哀想×）
E24: 為→ため
E25: よく | F25: 形容詞が副詞と転じて使われる場合
E26: わかった。わかりました。 | F26: 返事、相槌としての「わかった」
E27: おいしい | F27: かくりよ・うつしよでは「美味しい」だけど、記者ハンドブックに則る。
E28: つかむ | F28: 掴む、は常用漢字外
E29: じつは
E30: ちょうど
E31: ない
E32: 子ども
E33: ばか
E34: そばに
E35: いろんな
E37: 他
E38: ついて来→付いて来
E39: ついて行→付いて行

Sheet 呼称表
C3: 主人公 | D3: 芙蓉 | E3: タンコ | F3: ましろ（仮） | G3: 紫蘭 | H3: あざみ（仮） | I3: 悪路王
B4: 主人公 | G4: 紫蘭さん | I4: 悪路王
B5: 芙蓉 | G5: 紫蘭様 | I5: 悪路王 | J5: ←悩んでるけど、悪路王。
B6: タンコ | G6: 紫蘭殿 | I6: 悪路王
B7: ましろ（仮） | C7: (player)君 | G7: 紫蘭姉さん | I7: 悪さん
B8: 紫蘭 | C8: (player)ちゃん | I8: 悪ちゃん
B9: あざみ（仮） | G9: 紫蘭様
B10: 悪路王 | G10: 紫蘭、
B13: 二人称
C14: 主人公 | D14: 芙蓉 | E14: タンコ | F14: ましろ（仮） | G14: 紫蘭 | H14: あざみ（仮） | I14: 悪路王
B15: 主人公
B16: 芙蓉 | C16: あなた | E16: ――
B17: タンコ | C17: おぬし | D17: おぬし
B18: ましろ（仮） | C18: きみ | D18: きみ
B19: 紫蘭 | C19: きみ | D19: きみ
B20: あざみ（仮）
B21: 悪路王
B24: 三人称
C25: 主人公 | D25: 芙蓉 | E25: タンコ | F25: ましろ（仮） | G25: 紫蘭 | H25: あざみ（仮） | I25: 悪路王
B26: 主人公
B27: 芙蓉 | E27: ――
B28: タンコ
B29: ましろ（仮）
B30: 紫蘭
B31: あざみ（仮）
B32: 悪路王 | G32: あの女

Sheet 名前回数
D2: 主人公の名前を呼ぶ回数を増やす
F4: before | G4: after
E5: 1_1 | G5: 15
E6: 1_2 | G6: 12
E7: 1_3 | G7: 14
E8: 1_4 | G8: 12
E9: 1_5 | G9: 13
E10: 1_6 | G10: 7
E11: 1_7 | F11: 8
E12: 1_8 | F12: 6
E13: 1_9 | F13: 7
E14: 1_10 | F14: 4
E15: 2_1 | F15: 4
E16: 2_2 | F16: 10
E17: 2_3 | F17: 4
E18: 2_4 | F18: 8
E19: 2_5
E20: 2_6
E21: 2_7
E22: 2_8
E23: 2_9
E24: 2_10

Sheet 見方、スクリプト
B2: サンプル
D5: 無視 | E5: ストーリーCODE | F5: BGM名 | G5: 背景名 | H5: SE | I5: 表示位置 0: 非表示 1: 左 2: 中央 3: 右 | J5: 表示キャラクター 0: 非表示 1: 芙蓉 2: タンコ | K5: キャラ表情 1; 通常 2: 微笑 3: 喜び 4: 怒り 5: 哀しい 6: 嬉しい 7: ヤレヤレ 8: 気づき -- タンコ 11: 仮面通常 12: 仮面初登場 | L5: キャラ反転 0 or 空白: そのまま 1: 反転 2: 戻す | M5: めも | N5: ラベル （選択肢の着地点） | O5: 台詞キャラ名 | P5: 台詞 24文字で自動改行 最大２行までの運用。 ああああああああああああああああああああああああ
E6: story_code | F6: bgm_name | G6: background_name | H6: se_name | I6: position_kind_key | J6: speaker_kind_key | K6: emotion_kind | L6: inverse_kind | N6: label | O6: name | P6: message
D7: # | E7: 背景： | F7: 1_1_1 | G7: 1_1_1 | P7: フルボイス
D8: # | E8: 100101 | F8: stop | G8: 1
D9: # | E9: 100101 | F9: stop | O9: ？？？ | P9: ――ですか？
D10: # | E10: 100101 | O10: ？？？ | P10: 大丈夫ですか？ 起きられますか……？
D11: # | E11: 100101 | F11: ev_strange01 | G11: 1001
D12: # | E12: 100101 | P12: /effect blackin
D13: # | E13: 100101 | I13: 中央 | J13: 芙蓉 | K13: 9 | O13: ？？？ | P13: ……良かった。目を覚ましてくれて。
D14: # | E14: 100101 | I14: 中央 | K14: 2 | O14: 芙蓉 | P14: 私は、名を芙蓉（ふよう）と申します。 あなたを招呼（しょうこ）の術で呼び出しました。
D15: # | E15: 100101 | I15: 中央 | K15: 9 | O15: 芙蓉 | P15: 呼び出しに応じていただけて助かりました。 あなたは今まで、遠い未来にいたのですから。
D16: # | E16: 100101 | I16: 中央 | K16: 4 | O16: 芙蓉 | P16: 突然こんなことを言われて戸惑うかと思いますが、 今は……時間がありません。
D17: # | E17: 100101 | I17: 中央 | K17: 4 | O17: 芙蓉 | P17: 凶暴な妖（あやかし）が、 そこまで迫っているのです。
D18: # | E18: 100101 | I18: 中央 | K18: 4 | O18: 芙蓉 | P18: これは、式姫の型紙というものです。 この型紙を手に取り、力を込めていただけますか？
D19: # | E19: 100101 | I19: 中央 | K19: 5 | O19: 芙蓉 | P19: お願いします。 あの、あ……
D20: # | E20: 100101 | I20: 中央 | K20: 5 | O20: 芙蓉 | P20: あなたのお名前……まだ聞いていませんでしたね。 差し支えなければ、教えていただけますか？
D21: # | E21: 100101 | M21: 名前入力 | P21: /input
D22: # | E22: 100101 | I22: 中央 | K22: 9 | O22: 芙蓉 | P22: (player)さん、ですか。 ……何か、ほっとする響きがあるような……
D23: # | E23: 100101 | I23: 中央 | K23: 5 | O23: 芙蓉 | P23: ……あ……ごめんなさい。 忘れてください。あの……
D24: # | E24: 100101 | I24: 中央 | K24: 1 | O24: 芙蓉 | P24: 先程のお話ですが、やっていただけますか？ ……すみません。もう、時間がないのです……
D25: # | E25: 100101 | H25: ev_paper01 | I25: 中央 | K25: 2 | O25: 芙蓉 | P25: この型紙に力を込めれば……式姫が召喚され、 あなたに呼応して戦ってくれるはずです。
D26: # | E26: 100101 | M26: 選択肢 | P26: /case A: え……？ B: やってみる。
D27: # | E27: 100101 | I27: 中央 | K27: 1 | N27: A | O27: 芙蓉 | P27: 分からないのも無理はありません。 でもあなたならできるはず……
D28: # | E28: 100101 | I28: 中央 | K28: 4 | O28: 芙蓉 | P28: さ、力を込めてみてください。 両の掌（てのひら）に集中して……
D29: # | E29: 100101 | P29: /goto END
D30: # | E30: 100101 | I30: 中央 | K30: 2 | N30: B | O30: 芙蓉 | P30: ありがとうございます。
D31: # | E31: 100101 | I31: 中央 | K31: 2 | O31: 芙蓉 | P31: では、両の掌（てのひら）に集中して……
D32: # | E32: 100101 | P32: /goto END
D33: # | E33: 100101 | H33: ev_paper02 | N33: END | P33: /effect whiteout
D34: # | E34: 100101 | P34: /effect whitein
D35: # | E35: 100101 | I35: 中央 | K35: 8 | O35: 芙蓉 | P35: 型紙から光が……
D36: # | E36: 100101 | I36: 中央 | K36: 2 | O36: 芙蓉 | P36: やっぱり。素質があるのは間違いないようですね。 式姫召喚、うまくいきそうです。
D37: # | E37: 100101 | I37: 中央 | K37: 2 | O37: 芙蓉 | P37: 召喚後は式姫との絆（きずな）を深め、 その力を磨いていってください。
D38: # | E38: 100101 | I38: 中央 | K38: 5 | O38: 芙蓉 | P38: 力を磨くその前に 妖と戦っていただくのは心苦しいのですが。
D39: # | E39: 100101 | I39: 中央 | K39: 5 | O39: 芙蓉 | P39: 今は……お願いします。 その型紙に力を込めてください。
D40: # | E40: 100101 | I40: 中央 | K40: 4 | O40: 芙蓉 | P40: すぐに式姫が あなたの呼びかけに応えてくれるでしょう。
D41: # | E41: 100101 | H41: ev_fadeout01 | P41: /effect whiteout
B44: 見方
C45: ヘッダー | D45: 説明 | K45: 備考
...
